BEGIN:VCALENDAR
VERSION:2.0
PRODID:-//ADC – Associació de Diabetis de Catalunya - ECPv6.15.20//NONSGML v1.0//EN
CALSCALE:GREGORIAN
METHOD:PUBLISH
X-WR-CALNAME:ADC – Associació de Diabetis de Catalunya
X-ORIGINAL-URL:https://adc.cat
X-WR-CALDESC:Esdeveniments per ADC – Associació de Diabetis de Catalunya
REFRESH-INTERVAL;VALUE=DURATION:PT1H
X-Robots-Tag:noindex
X-PUBLISHED-TTL:PT1H
BEGIN:VTIMEZONE
TZID:Europe/Madrid
BEGIN:DAYLIGHT
TZOFFSETFROM:+0100
TZOFFSETTO:+0200
TZNAME:CEST
DTSTART:20250330T010000
END:DAYLIGHT
BEGIN:STANDARD
TZOFFSETFROM:+0200
TZOFFSETTO:+0100
TZNAME:CET
DTSTART:20251026T010000
END:STANDARD
BEGIN:DAYLIGHT
TZOFFSETFROM:+0100
TZOFFSETTO:+0200
TZNAME:CEST
DTSTART:20260329T010000
END:DAYLIGHT
BEGIN:STANDARD
TZOFFSETFROM:+0200
TZOFFSETTO:+0100
TZNAME:CET
DTSTART:20261025T010000
END:STANDARD
BEGIN:DAYLIGHT
TZOFFSETFROM:+0100
TZOFFSETTO:+0200
TZNAME:CEST
DTSTART:20270328T010000
END:DAYLIGHT
BEGIN:STANDARD
TZOFFSETFROM:+0200
TZOFFSETTO:+0100
TZNAME:CET
DTSTART:20271031T010000
END:STANDARD
END:VTIMEZONE
BEGIN:VEVENT
DTSTART;VALUE=DATE:20260418
DTEND;VALUE=DATE:20260501
DTSTAMP:20260422T172945
CREATED:20260330T102747Z
LAST-MODIFIED:20260330T112529Z
UID:53217-1776470400-1777593599@adc.cat
SUMMARY:Girona: Participa en una investigació sobre ciclisme i DM1
DESCRIPTION:T’agrada el ciclisme? Participa en un estudi clínic pioner a Girona\, iniciativa de la càtedra de la UdG sobre Intel·ligència artificial en Diabetis. L’estudi té com a objectiu analitzar com respon el cos (glucosa i altres factors fisiològics) durant l’exercici\, i així millorar el control de la diabetis tipus 1 durant l’esport i contribuir al desenvolupament de tecnologies avançades com el pàncrees artificial. \n\n\n\n\n\n\n\n\nLa participació és voluntària i gratuïta. Durant l’estudi es facilitaran tots els materials de suport necessaris\, així com un mallot personalitzat. \n\n\n\n\n\n\n\n\nEs busquen persones que: \n\nTinguin diabetis tipus 1\nTinguin entre 18 i 65 anys\nSiguin físicament actives\nFacin més de 4 hores setmanals d’activitat moderada\nTinguin experiència en ciclisme i se sentin capaces de fer 75 km en bicicleta\nUtilitzin monitoratge continu de glucosa\n\nInscriu-te per rebre més informació i formar part d’aquest projecte innovador.Places limitades. Contactaran amb tu si compleixes els requisits. \nInscripció \nIniciativa aliena a l’ADC.
URL:https://adc.cat/activitat/girona-participa-en-una-investigacio-sobre-ciclisme-gravel-i-dm1/
CATEGORIES:Comarques Gironines
ATTACH;FMTTYPE=image/jpeg:https://adc.cat/wp-content/uploads/2026/03/pedalt1-d.jpg
END:VEVENT
BEGIN:VEVENT
DTSTART;TZID=Europe/Madrid:20260422T180000
DTEND;TZID=Europe/Madrid:20260422T193000
DTSTAMP:20260422T172945
CREATED:20260316T111950Z
LAST-MODIFIED:20260316T112449Z
UID:53135-1776880800-1776886200@adc.cat
SUMMARY:Barcelona: Grup de suport per a persones amb diabetis
DESCRIPTION:Diu la teva! Trobada presencial per a adults amb diabetis tipus 1\, tipus 2 o LADA. Espai per veure’ns i poder compartir experiències\, vivències\, dubtes i també angoixes. 💥 \nT’agradaria tenir un espai on compartir experiències i rebre suport en la gestió de la diabetis? Vols resoldre dubtes amb persones que comprenen el que estàs vivint? Si és així\, aquest grup és per a tu! \n📍 A on?  A ADC Serveis Centrals (Barcelona)\nC/ Aragó 63\, Entresol 2ª\, 08015\, Barcelona\n🗓️ Data: Dimecres 22 d’abril 2026.\n🕖 Hora: a les 18.00 hores.\n🗣️ Moderat per l’equip de l’ADC: Sandra Canudas\, Gerent d’ADC i Psicoterapeuta\, Marta Mató\, atenció al pacient a l’ADC i nutricionista-dietista. \nActivitat per a persones associades a l’ADC. \nInscripció \nEn cas de voler més informació o necessitar anular\, escriu a adcbarcelona@adc.cat. \nGràcies! \nOrganitza ADC Serveis Centrals
URL:https://adc.cat/activitat/barcelona-grup-de-suport-per-a-persones-amb-diabetis-4/
CATEGORIES:Barcelona
ATTACH;FMTTYPE=image/jpeg:https://adc.cat/wp-content/uploads/2026/01/gs-bcn-feb.jpg
END:VEVENT
END:VCALENDAR