BEGIN:VCALENDAR
VERSION:2.0
PRODID:-//ADC – Associació de Diabetis de Catalunya - ECPv6.15.20//NONSGML v1.0//EN
CALSCALE:GREGORIAN
METHOD:PUBLISH
X-ORIGINAL-URL:https://adc.cat
X-WR-CALDESC:Esdeveniments per ADC – Associació de Diabetis de Catalunya
REFRESH-INTERVAL;VALUE=DURATION:PT1H
X-Robots-Tag:noindex
X-PUBLISHED-TTL:PT1H
BEGIN:VTIMEZONE
TZID:Europe/Madrid
BEGIN:DAYLIGHT
TZOFFSETFROM:+0100
TZOFFSETTO:+0200
TZNAME:CEST
DTSTART:20250330T010000
END:DAYLIGHT
BEGIN:STANDARD
TZOFFSETFROM:+0200
TZOFFSETTO:+0100
TZNAME:CET
DTSTART:20251026T010000
END:STANDARD
BEGIN:DAYLIGHT
TZOFFSETFROM:+0100
TZOFFSETTO:+0200
TZNAME:CEST
DTSTART:20260329T010000
END:DAYLIGHT
BEGIN:STANDARD
TZOFFSETFROM:+0200
TZOFFSETTO:+0100
TZNAME:CET
DTSTART:20261025T010000
END:STANDARD
BEGIN:DAYLIGHT
TZOFFSETFROM:+0100
TZOFFSETTO:+0200
TZNAME:CEST
DTSTART:20270328T010000
END:DAYLIGHT
BEGIN:STANDARD
TZOFFSETFROM:+0200
TZOFFSETTO:+0100
TZNAME:CET
DTSTART:20271031T010000
END:STANDARD
END:VTIMEZONE
BEGIN:VEVENT
DTSTART;TZID=Europe/Madrid:20260522T180000
DTEND;TZID=Europe/Madrid:20260522T190000
DTSTAMP:20260424T114832
CREATED:20260422T121121Z
LAST-MODIFIED:20260422T152918Z
UID:53516-1779472800-1779476400@adc.cat
SUMMARY:Lleida: Com afecten les emocions a la meva diabetis?
DESCRIPTION:Xerrada amb Zakaria Darraz\, psicòleg especialitzat en diabetis\, on parlarem de com les emocions\, les pors i l’estat d’ànim poden influir en el control de la malaltia. \n📍 A on? Sala Jaume Magre. Carrer Bisbe Torres\, 2\, 25002\, Lleida.\n🗓️ Data: Dijous 22 de maig\n🕖 Hora: a les 18.00 hores\n🗣️ Xerrada a càrrec de: Zakarias Darraz\, psicòleg especialitzat en diabetis.ADC Lleida: Esther i Francesc. \nActivitat oberta a tothom\, cal inscripció prèvia. \nInscripció \nEn cas de voler més informació\, voler venir o necessitar anular\, escriure a adclleida@adc.cat . \nGràcies! \nOrganitza ADC Lleida
URL:https://adc.cat/activitat/lleida-com-afecten-les-emocions-a-la-meva-diabetis/
CATEGORIES:Lleida
ATTACH;FMTTYPE=image/jpeg:https://adc.cat/wp-content/uploads/2026/04/act-lleida-maig.jpg
END:VEVENT
END:VCALENDAR