BEGIN:VCALENDAR
VERSION:2.0
PRODID:-//ADC – Associació de Diabetis de Catalunya - ECPv6.15.20//NONSGML v1.0//EN
CALSCALE:GREGORIAN
METHOD:PUBLISH
X-WR-CALNAME:ADC – Associació de Diabetis de Catalunya
X-ORIGINAL-URL:https://adc.cat
X-WR-CALDESC:Esdeveniments per ADC – Associació de Diabetis de Catalunya
REFRESH-INTERVAL;VALUE=DURATION:PT1H
X-Robots-Tag:noindex
X-PUBLISHED-TTL:PT1H
BEGIN:VTIMEZONE
TZID:Europe/Madrid
BEGIN:DAYLIGHT
TZOFFSETFROM:+0100
TZOFFSETTO:+0200
TZNAME:CEST
DTSTART:20250330T010000
END:DAYLIGHT
BEGIN:STANDARD
TZOFFSETFROM:+0200
TZOFFSETTO:+0100
TZNAME:CET
DTSTART:20251026T010000
END:STANDARD
BEGIN:DAYLIGHT
TZOFFSETFROM:+0100
TZOFFSETTO:+0200
TZNAME:CEST
DTSTART:20260329T010000
END:DAYLIGHT
BEGIN:STANDARD
TZOFFSETFROM:+0200
TZOFFSETTO:+0100
TZNAME:CET
DTSTART:20261025T010000
END:STANDARD
BEGIN:DAYLIGHT
TZOFFSETFROM:+0100
TZOFFSETTO:+0200
TZNAME:CEST
DTSTART:20270328T010000
END:DAYLIGHT
BEGIN:STANDARD
TZOFFSETFROM:+0200
TZOFFSETTO:+0100
TZNAME:CET
DTSTART:20271031T010000
END:STANDARD
END:VTIMEZONE
BEGIN:VEVENT
DTSTART;TZID=Europe/Madrid:20260117T103000
DTEND;TZID=Europe/Madrid:20260117T121500
DTSTAMP:20260424T163917
CREATED:20251211T150357Z
LAST-MODIFIED:20260102T125638Z
UID:52470-1768645800-1768652100@adc.cat
SUMMARY:Barcelona: Taller infantil de xocolata i pastisseria amb formació diabetològica
DESCRIPTION:En aquest taller de cuina infantil\, els més petits/es de la casa aprendran a elaborar postres amb xocolata\, mentre reben orientació diabetològica per a un millor control de la seva diabetis. Taller impartit per una nutricionista. \nActivitat per a infants i joves de 8 a 16 anys. Només s’admetrà un únic acompanyant adult per infant. \n📍 A on? Centre Cívic el Sortidor\, Sala All i Oli\nPlaça del Sortidor 12\, 08004\, Barcelona\n🗓️ Data: Dissabte 17 de gener de 2026\n🕕 Hora: De les 10:30 a 12:15h\n🗣️ Xerrada a càrrec de: Noelia Herrero\, Dietista-Nutricionista especialitzada en Nutrició Clínica i Diabetis i Doctora en Comunicació en Salut. Divulgadora a les xarxes com @dulcesdiabeticos. Organitza: ADC Barcelona/Serveis Centrals \nInscripció obligatòria. \nInscripció \nEn cas de voler més informació o necessitar anul·.lar\, pots escriure a adcbarcelona@adc.cat  \nGràcies! 💙
URL:https://adc.cat/activitat/barcelona-nadals-dolcos-salut-i-sabor-a-la-taula-2/
CATEGORIES:Barcelona
ATTACH;FMTTYPE=image/jpeg:https://adc.cat/wp-content/uploads/2025/12/taller-de-xocolata.jpg
END:VEVENT
END:VCALENDAR