BEGIN:VCALENDAR
VERSION:2.0
PRODID:-//ADC – Associació de Diabetis de Catalunya - ECPv6.15.20//NONSGML v1.0//EN
CALSCALE:GREGORIAN
METHOD:PUBLISH
X-ORIGINAL-URL:https://adc.cat
X-WR-CALDESC:Esdeveniments per ADC – Associació de Diabetis de Catalunya
REFRESH-INTERVAL;VALUE=DURATION:PT1H
X-Robots-Tag:noindex
X-PUBLISHED-TTL:PT1H
BEGIN:VTIMEZONE
TZID:Europe/Madrid
BEGIN:DAYLIGHT
TZOFFSETFROM:+0100
TZOFFSETTO:+0200
TZNAME:CEST
DTSTART:20250330T010000
END:DAYLIGHT
BEGIN:STANDARD
TZOFFSETFROM:+0200
TZOFFSETTO:+0100
TZNAME:CET
DTSTART:20251026T010000
END:STANDARD
BEGIN:DAYLIGHT
TZOFFSETFROM:+0100
TZOFFSETTO:+0200
TZNAME:CEST
DTSTART:20260329T010000
END:DAYLIGHT
BEGIN:STANDARD
TZOFFSETFROM:+0200
TZOFFSETTO:+0100
TZNAME:CET
DTSTART:20261025T010000
END:STANDARD
BEGIN:DAYLIGHT
TZOFFSETFROM:+0100
TZOFFSETTO:+0200
TZNAME:CEST
DTSTART:20270328T010000
END:DAYLIGHT
BEGIN:STANDARD
TZOFFSETFROM:+0200
TZOFFSETTO:+0100
TZNAME:CET
DTSTART:20271031T010000
END:STANDARD
END:VTIMEZONE
BEGIN:VEVENT
DTSTART;TZID=Europe/Madrid:20260211T180000
DTEND;TZID=Europe/Madrid:20260211T193000
DTSTAMP:20260424T145816
CREATED:20260122T055404Z
LAST-MODIFIED:20260213T095745Z
UID:52751-1770832800-1770838200@adc.cat
SUMMARY:Barcelona: Grup de suport per a persones amb diabetis
DESCRIPTION:Diu la teva! Trobada presencial per a adults amb diabetis tipus 1\, tipus 2 o LADA. Espai per veure’ns i poder compartir experiències\, vivències\, dubtes i també angoixes. 💥 \nT’agradaria tenir un espai on compartir experiències i rebre suport en la gestió de la diabetis? Vols resoldre dubtes amb persones que comprenen el que estàs vivint? Si és així\, aquest grup és per a tu! \n📍 A on?  A ADC Serveis Centrals (Barcelona)\nC/ Aragó 63\, Entresol 2ª\, 08015\, Barcelona\n🗓️ Data: Dimecres11 de febrer.\n🕖 Hora: a les 18.00 hores.\n🗣️ Moderat per l’equip de l’ADC: Sandra Canudas\, Gerent d’ADC i Psicoterapeuta\, Marta Mató\, atenció al pacient a l’ADC i nutricionista-dietista. \nActivitat per a persones associades a l’ADC. \nInscripció \nEn cas de voler més informació o necessitar anular\, escriu a adcbarcelona@adc.cat. \nGràcies! \nOrganitza ADC Serveis Centrals
URL:https://adc.cat/activitat/barcelona-grup-de-suport-per-a-persones-amb-diabetis-3/
CATEGORIES:Barcelona
ATTACH;FMTTYPE=image/jpeg:https://adc.cat/wp-content/uploads/2026/01/gs-bcn-feb.jpg
END:VEVENT
BEGIN:VEVENT
DTSTART;TZID=Europe/Madrid:20260220T173000
DTEND;TZID=Europe/Madrid:20260220T193000
DTSTAMP:20260424T145816
CREATED:20260127T095333Z
LAST-MODIFIED:20260213T102336Z
UID:52798-1771608600-1771615800@adc.cat
SUMMARY:Barcelona: Taller infantil - El meu Mapa del Tresor
DESCRIPTION:El Mapa del Tresor és una forma divertida de jugar\, compartir i passar una bona estona amb altres infants amb diabetis. A través del joc\, podem conèixer-nos millor\, contar coses que ens agraden i escoltar als altres\, fent nous amics. 🌈💙 \nQuè és i per a què serveix? Un mapa del tresor és un dibuix especial on posem totes les coses boniques que volem aprendre o viure\, els nostres somnis i desitjos. \nAquest mapa ens ajuda a conèixer el que ens agrada\, imaginar el nostre futur\, aprendre a somniar\, creure en nosaltres mateixos\, i expressar les nostres emocions i desitjos. Tot això mentre gaudim\, socialitzem\, perdem la vergonya i coneixem a més infants amb diabetis.💙 \nActivitat adequada per a infants de 8 a 16 anys. \n📍 A on?  A ADC Serveis Centrals (Barcelona)\nC/ Aragó 63\, Entresol 2ª\, 08015\, Barcelona\n🗓️ Data: Divendres 20 de febrer.\n🕖 Hora: a les 17.30 h i fins a les 19:30h.\n✂️ Material a portar al taller: Material obligatori per fer l’activitat\n– Una cartolina blanca gran\n– Una barra/tub de cola\n– Unes tisores \nActivitat per a persones associades a l’ADC. Inscripció obligatòria\, l’activitat es podrà cancel·lar en cas de no arribar al mínim d’assistents. \nInscripció \nEn cas de voler més informació o necessitar anular\, escriu a adcbarcelona@adc.cat. \nGràcies! Organitza ADC Serveis Centrals amb el suport de l’Ajuntament de Barcelona
URL:https://adc.cat/activitat/barcelona-taller-infantil-el-meu-mapa-del-tresor/
CATEGORIES:Barcelona
ATTACH;FMTTYPE=image/jpeg:https://adc.cat/wp-content/uploads/2026/01/mapa-tresor-bcn-feb.jpg
END:VEVENT
END:VCALENDAR