BEGIN:VCALENDAR
VERSION:2.0
PRODID:-//ADC – Associació de Diabetis de Catalunya - ECPv6.15.20//NONSGML v1.0//EN
CALSCALE:GREGORIAN
METHOD:PUBLISH
X-WR-CALNAME:ADC – Associació de Diabetis de Catalunya
X-ORIGINAL-URL:https://adc.cat/es/
X-WR-CALDESC:Eventos para ADC – Associació de Diabetis de Catalunya
REFRESH-INTERVAL;VALUE=DURATION:PT1H
X-Robots-Tag:noindex
X-PUBLISHED-TTL:PT1H
BEGIN:VTIMEZONE
TZID:Europe/Madrid
BEGIN:DAYLIGHT
TZOFFSETFROM:+0100
TZOFFSETTO:+0200
TZNAME:CEST
DTSTART:20250330T010000
END:DAYLIGHT
BEGIN:STANDARD
TZOFFSETFROM:+0200
TZOFFSETTO:+0100
TZNAME:CET
DTSTART:20251026T010000
END:STANDARD
BEGIN:DAYLIGHT
TZOFFSETFROM:+0100
TZOFFSETTO:+0200
TZNAME:CEST
DTSTART:20260329T010000
END:DAYLIGHT
BEGIN:STANDARD
TZOFFSETFROM:+0200
TZOFFSETTO:+0100
TZNAME:CET
DTSTART:20261025T010000
END:STANDARD
BEGIN:DAYLIGHT
TZOFFSETFROM:+0100
TZOFFSETTO:+0200
TZNAME:CEST
DTSTART:20270328T010000
END:DAYLIGHT
BEGIN:STANDARD
TZOFFSETFROM:+0200
TZOFFSETTO:+0100
TZNAME:CET
DTSTART:20271031T010000
END:STANDARD
END:VTIMEZONE
BEGIN:VEVENT
DTSTART;TZID=Europe/Madrid:20260319T180000
DTEND;TZID=Europe/Madrid:20260319T190000
DTSTAMP:20260422T180545
CREATED:20260223T105752Z
LAST-MODIFIED:20260223T105752Z
UID:52940-1773943200-1773946800@adc.cat
SUMMARY:Lleida: Las emociones y la diabetes en niños/as y adolescentes. ¿Cómo debemos acompañarles?
DESCRIPTION:Charla donde hablaremos sobre cómo gestionar y acompañar a nuestros hijos e hijas con diabetes a lo largo de las diferentes etapas de la vida\, desde la infancia hasta la adolescencia y la entrada en la edad adulta. Abordaremos los retos específicos de cada momento y compartiremos herramientas prácticas para fomentar la autonomía\, autoestima y una buena adherencia al tratamiento. \n📍 ¿Dónde? Sala Jaume Magre. Carrer Bisbe Torres\, 2\, 25002\, Lleida. 🗓️ Fecha: Jueves 19 de marzo 🕖 Hora: a las 18.00 horas 🗣️ Charla a cargo de: Zakarias Darraz\, psicólogo especializado en diabetes. Organiza ADC Lleida: Esther y Francesc. \nActividad abierta a todo el mundo\, se requiere inscripción previa. \nInscripción \nEn caso de requerir más información\, o necesitar anular\, escribid a a adclleida@adc.cat . ¡Grácias! Organiza ADC Lleida
URL:https://adc.cat/es/activitat/lleida-las-emociones-y-la-diabetes-en-ninos-as-y-adolescentes-como-debemos-acompanarles/
CATEGORIES:Lleida
ATTACH;FMTTYPE=image/png:https://adc.cat/wp-content/uploads/2026/02/lleida-emocions-diabetis.png
END:VEVENT
END:VCALENDAR