BEGIN:VCALENDAR
VERSION:2.0
PRODID:-//ADC – Associació de Diabetis de Catalunya - ECPv6.15.20//NONSGML v1.0//EN
CALSCALE:GREGORIAN
METHOD:PUBLISH
X-WR-CALNAME:ADC – Associació de Diabetis de Catalunya
X-ORIGINAL-URL:https://adc.cat/es/
X-WR-CALDESC:Eventos para ADC – Associació de Diabetis de Catalunya
REFRESH-INTERVAL;VALUE=DURATION:PT1H
X-Robots-Tag:noindex
X-PUBLISHED-TTL:PT1H
BEGIN:VTIMEZONE
TZID:Europe/Madrid
BEGIN:DAYLIGHT
TZOFFSETFROM:+0100
TZOFFSETTO:+0200
TZNAME:CEST
DTSTART:20250330T010000
END:DAYLIGHT
BEGIN:STANDARD
TZOFFSETFROM:+0200
TZOFFSETTO:+0100
TZNAME:CET
DTSTART:20251026T010000
END:STANDARD
BEGIN:DAYLIGHT
TZOFFSETFROM:+0100
TZOFFSETTO:+0200
TZNAME:CEST
DTSTART:20260329T010000
END:DAYLIGHT
BEGIN:STANDARD
TZOFFSETFROM:+0200
TZOFFSETTO:+0100
TZNAME:CET
DTSTART:20261025T010000
END:STANDARD
BEGIN:DAYLIGHT
TZOFFSETFROM:+0100
TZOFFSETTO:+0200
TZNAME:CEST
DTSTART:20270328T010000
END:DAYLIGHT
BEGIN:STANDARD
TZOFFSETFROM:+0200
TZOFFSETTO:+0100
TZNAME:CET
DTSTART:20271031T010000
END:STANDARD
END:VTIMEZONE
BEGIN:VEVENT
DTSTART;TZID=Europe/Madrid:20260430T110000
DTEND;TZID=Europe/Madrid:20260430T120000
DTSTAMP:20260424T102847
CREATED:20260422T115901Z
LAST-MODIFIED:20260423T090317Z
UID:53524-1777546800-1777550400@adc.cat
SUMMARY:Lleida: Aprender a leer las etiquetas. ¿Qué hay realmente a lo que comemos?
DESCRIPTION:¿Te gustaría aprender a interpretar el etiquetado nutricional de los alimentos? ¿Quieres saber cómo identificar los ingredientes\, los tipos de carbohidratos y mucho más? ¿Quieres saber qué estás comiendo realmente? \nEn esta charla con la nutricionista Laia Algueró hablaremos sobre qué está detrás de la etiqueta. \n📍 ¿Dónde? Sala de lectura del Centro Cívico de Balàfia (Carrer Terrassa\, 1\, 25005\, Lleida) \n🗓️ Fecha: Jueves 30 de abril \n🕖 Hora: a las 11.00 horas \n🗣️ Charla a cargo de: Laia Algueró. Nutricionista de Disanta Nutrició. ADC Lleida: Esther y Francesc. \nActividad abierta a todo el mundo. Se requiere inscripción previa. \nInscripción \nEn caso de requerir más información\, querer venir o necessitar anular\, escribid a adclleida@adc.cat . \n¡Gacias! Organiza ADC Lleida
URL:https://adc.cat/es/activitat/lleida-aprender-a-leer-las-etiquetas-que-hay-realmente-a-lo-que-comemos/
CATEGORIES:Lleida
ATTACH;FMTTYPE=image/jpeg:https://adc.cat/wp-content/uploads/2026/04/act-lleida-abril.jpg
END:VEVENT
END:VCALENDAR