BEGIN:VCALENDAR
VERSION:2.0
PRODID:-//ADC – Associació de Diabetis de Catalunya - ECPv6.15.20//NONSGML v1.0//EN
CALSCALE:GREGORIAN
METHOD:PUBLISH
X-WR-CALNAME:ADC – Associació de Diabetis de Catalunya
X-ORIGINAL-URL:https://adc.cat/es/
X-WR-CALDESC:Eventos para ADC – Associació de Diabetis de Catalunya
REFRESH-INTERVAL;VALUE=DURATION:PT1H
X-Robots-Tag:noindex
X-PUBLISHED-TTL:PT1H
BEGIN:VTIMEZONE
TZID:Europe/Madrid
BEGIN:DAYLIGHT
TZOFFSETFROM:+0100
TZOFFSETTO:+0200
TZNAME:CEST
DTSTART:20250330T010000
END:DAYLIGHT
BEGIN:STANDARD
TZOFFSETFROM:+0200
TZOFFSETTO:+0100
TZNAME:CET
DTSTART:20251026T010000
END:STANDARD
BEGIN:DAYLIGHT
TZOFFSETFROM:+0100
TZOFFSETTO:+0200
TZNAME:CEST
DTSTART:20260329T010000
END:DAYLIGHT
BEGIN:STANDARD
TZOFFSETFROM:+0200
TZOFFSETTO:+0100
TZNAME:CET
DTSTART:20261025T010000
END:STANDARD
BEGIN:DAYLIGHT
TZOFFSETFROM:+0100
TZOFFSETTO:+0200
TZNAME:CEST
DTSTART:20270328T010000
END:DAYLIGHT
BEGIN:STANDARD
TZOFFSETFROM:+0200
TZOFFSETTO:+0100
TZNAME:CET
DTSTART:20271031T010000
END:STANDARD
END:VTIMEZONE
BEGIN:VEVENT
DTSTART;TZID=Europe/Madrid:20260514T180000
DTEND;TZID=Europe/Madrid:20260514T190000
DTSTAMP:20260424T131546
CREATED:20260423T103050Z
LAST-MODIFIED:20260423T103050Z
UID:53570-1778781600-1778785200@adc.cat
SUMMARY:Sant Vicenç dels Horts: glucosa y emociones: el eje invisible
DESCRIPTION:Taller teórico-práctico para entender cómo el estrés\, el sistema nervioso y el estado emocional pueden influir en la glucemia\, aunque “lo estés haciendo todo bien”. Tu glucosa no sólo responde a lo que comes. Responde a cómo piensas y cómo te sientes. \nA lo largo de la sesión\, exploraremos esta conexión\, a menudo invisible\, y compartiremos herramientas prácticas para fomentar una alimentación más consciente y gestionar nuestras emociones. \nDatos del taller: \n📍 ¿Dónde? Centre Cívic Virgínia Amposta. Carrer Antoni Mampel 1-3\, Sant Vicenç dels Horts\, 08620. \n🗓️ Fecha: Jueves 14 de mayo \n🕖 Hora: a las 18:00 h. \n🗣️ Charla a cargo de: Marta Mató\, nutricionista y coach nutricional\, especialista en alimentación antiinflamatoria y parte del equipo de atención al paciente de la ADC. Dinamiza: Sandra Sepúlveda como parte de ADC Baix Llobregat \nSe requiere inscripción previa. \nInscripción \nOrganiza: ADC Baix Llobregat En caso de requerir más información o necesitar anular tu asistencia\, escribe a adcbaixllobregat@adc.cat.
URL:https://adc.cat/es/activitat/sant-vicenc-dels-horts-glucosa-y-emociones-el-eje-invisible/
CATEGORIES:Baix Llobregat
ATTACH;FMTTYPE=image/jpeg:https://adc.cat/wp-content/uploads/2026/04/act-svh-maig-1.jpg
END:VEVENT
BEGIN:VEVENT
DTSTART;TZID=Europe/Madrid:20260520T183000
DTEND;TZID=Europe/Madrid:20260520T193000
DTSTAMP:20260424T131546
CREATED:20260422T151727Z
LAST-MODIFIED:20260423T091502Z
UID:53530-1779301800-1779305400@adc.cat
SUMMARY:Girona: Falsas verdades sobre los azúcares
DESCRIPTION:En esta sesión nos explicarán diferentes factores relacionados con la alimentación que pueden ayudarnos o perjudicarnos a la hora de controlar la glucosa: alimentos\, combinaciones y hábitos que la hacen subir; alimentos\, hábitos y errores del día a día; alimentos que nos engañan; y falsos mitos. \nCharla a cargo de Maria Clara Dominkovics\, Licenciada en Ciencia y Tecnología de los Alimentos\, y con gran experiencia en nutrición y dietética para personas con diabetes.\n\n📍 ¿Dónde?  ADC Comarques Gironines. CCC. Girona-Rutlla. Carrer Rutlla\, 20-22 17002 Girona \n🗓️ Fecha: Miércoles 20 de mayo \n🕖 Hora: a las 18:30h. Duración máxima de 1 hora. \n🗣️ Charla a cargo de: Maria Clara Dominkovics\, Licenciada en Ciencia y Tecnología de los Alimentos\, Nutrición\, y con gran experiencia en dietética y nutrición en diabetes. \n🗣️ Organizado por: Anna Cardos y Olga Massaneda\, equipo de ADC Comarques Gironines. \nEncuentro presencial abierto a todo el mundo. Se requiere inscripción previa.  \nInscripción \nMás información en adcgirona@adc.cat. Tel. 972205020 / 670105230. ¡Os esperamos!
URL:https://adc.cat/es/activitat/girona-falsas-verdades-sobre-los-azucares/
CATEGORIES:Comarques Gironines
ATTACH;FMTTYPE=image/jpeg:https://adc.cat/wp-content/uploads/2026/04/imatge-act-girona.jpg
END:VEVENT
BEGIN:VEVENT
DTSTART;TZID=Europe/Madrid:20260522T180000
DTEND;TZID=Europe/Madrid:20260522T190000
DTSTAMP:20260424T131546
CREATED:20260422T121121Z
LAST-MODIFIED:20260423T090332Z
UID:53522-1779472800-1779476400@adc.cat
SUMMARY:Lleida: ¿Cómo afectan las emociones a mi diabetes?
DESCRIPTION:Charla con Zakaria Darraz\, psicólogo especializado en diabetes\, donde hablaremos de cómo las emociones\, los miedos y el estado de ánimo pueden influir en el control de la enfermedad. \n📍 ¿Dónde? Sala Jaume Magre. Calle Bisbe Torres\, 2\, 25002\, Lleida. \n🗓️ Fecha: Jueves 22 de mayo \n🕖 Hora: a las 18.00 horas \n🗣️ Charla a cargo de: Zakarias Darraz\, psicólogo especializado en diabetes.ADC Lleida: Esther y Francesc. \nActividad abierta  todo el mundo. Se requiere inscripción previa. \nInscripció \nEn caso de requerir más información\, querer venir o necesitar anular\, escribid a adclleida@adc.cat . ¡Gracias! Organiza ADC Lleida
URL:https://adc.cat/es/activitat/lleida-como-afectan-las-emociones-a-mi-diabetes/
CATEGORIES:Lleida
ATTACH;FMTTYPE=image/jpeg:https://adc.cat/wp-content/uploads/2026/04/act-lleida-maig.jpg
END:VEVENT
BEGIN:VEVENT
DTSTART;TZID=Europe/Madrid:20260530T103000
DTEND;TZID=Europe/Madrid:20260530T120000
DTSTAMP:20260424T131546
CREATED:20260416T085847Z
LAST-MODIFIED:20260416T085847Z
UID:53383-1780137000-1780142400@adc.cat
SUMMARY:Asamblea general ordinaria ADC 2026
DESCRIPTION:La asamblea ordinaria de la ADC de este año 2026 tendrá lugar el sábado 30 de mayo a las 10:30 horas en la ADC-Servicios Centrales: Calle Aragó 63\, entresuelo 2ª\, 08015\, Barcelona. \nPara poder asistir a la Asamblea\, es necesario realizar obligatoriamente la inscripción previa. Recomendamos asistir sólo al socio/a\, o acompañado/a por una persona como máximo. \nInscripciones \nVer el orden del día \nPara cualquier qüestión a respecto\, no duden en contactar con nosotros.
URL:https://adc.cat/es/activitat/asamblea-general-ordinaria-adc-2026/
ATTACH;FMTTYPE=image/jpeg:https://adc.cat/wp-content/uploads/2026/04/assemblea-2026.jpg
END:VEVENT
END:VCALENDAR