BEGIN:VCALENDAR
VERSION:2.0
PRODID:-//ADC – Associació de Diabetis de Catalunya - ECPv6.15.20//NONSGML v1.0//EN
CALSCALE:GREGORIAN
METHOD:PUBLISH
X-WR-CALNAME:ADC – Associació de Diabetis de Catalunya
X-ORIGINAL-URL:https://adc.cat/es/
X-WR-CALDESC:Eventos para ADC – Associació de Diabetis de Catalunya
REFRESH-INTERVAL;VALUE=DURATION:PT1H
X-Robots-Tag:noindex
X-PUBLISHED-TTL:PT1H
BEGIN:VTIMEZONE
TZID:Europe/Madrid
BEGIN:DAYLIGHT
TZOFFSETFROM:+0100
TZOFFSETTO:+0200
TZNAME:CEST
DTSTART:20250330T010000
END:DAYLIGHT
BEGIN:STANDARD
TZOFFSETFROM:+0200
TZOFFSETTO:+0100
TZNAME:CET
DTSTART:20251026T010000
END:STANDARD
BEGIN:DAYLIGHT
TZOFFSETFROM:+0100
TZOFFSETTO:+0200
TZNAME:CEST
DTSTART:20260329T010000
END:DAYLIGHT
BEGIN:STANDARD
TZOFFSETFROM:+0200
TZOFFSETTO:+0100
TZNAME:CET
DTSTART:20261025T010000
END:STANDARD
BEGIN:DAYLIGHT
TZOFFSETFROM:+0100
TZOFFSETTO:+0200
TZNAME:CEST
DTSTART:20270328T010000
END:DAYLIGHT
BEGIN:STANDARD
TZOFFSETFROM:+0200
TZOFFSETTO:+0100
TZNAME:CET
DTSTART:20271031T010000
END:STANDARD
END:VTIMEZONE
BEGIN:VEVENT
DTSTART;TZID=Europe/Madrid:20260610T180000
DTEND;TZID=Europe/Madrid:20260610T190000
DTSTAMP:20260424T145316
CREATED:20260423T111001Z
LAST-MODIFIED:20260423T111001Z
UID:53544-1781114400-1781118000@adc.cat
SUMMARY:Girona: Técnicas de relajación
DESCRIPTION:En esta sesión dirigida por Olga Massaneda\, psicóloga y parte del equipo de ADC Comarques Gironines\, descubriremos diferentes técnicas de relajación y cuáles son más adecuadas en cada situación y/o persona. \n\n\n📍 ¿Dónde?  ADC Comarques Gironines. CCC. Girona-Rutlla. Carrer Rutlla\, 20-22 17002 Girona.\n🗓️ Fecha: Miércoles 10 de junio.\n🕖 Hora: a las 18:00h y hasta las 19:00h.\n🎒 Se necesita traer: esterilla de yoga o similar.\n🗣️ Charla a cargo de: Olga Massaneda Comas\, psicóloga y parte del equipo de ADC Comarques Gironines. \nEncuentro presencial abierto a todo el mundo. Se requiere inscripción previa.  \nInscripció \nMás información en adcgirona@adc.cat. Tel. 972205020 / 670105230. ¡Os esperamos!
URL:https://adc.cat/es/activitat/girona-tecnicas-de-relajacion/
CATEGORIES:Comarques Gironines
ATTACH;FMTTYPE=image/jpeg:https://adc.cat/wp-content/uploads/2026/04/imatge-act-girona-juny.jpg
END:VEVENT
END:VCALENDAR